BEGIN:VCALENDAR
VERSION:2.0
PRODID:-//Grupo Pandora de Teatro - ECPv5.5.0.1//NONSGML v1.0//EN
CALSCALE:GREGORIAN
METHOD:PUBLISH
X-WR-CALNAME:Grupo Pandora de Teatro
X-ORIGINAL-URL:https://grupopandoradeteatro.com.br
X-WR-CALDESC:Eventos para Grupo Pandora de Teatro
BEGIN:VTIMEZONE
TZID:America/Sao_Paulo
BEGIN:STANDARD
TZOFFSETFROM:-0300
TZOFFSETTO:-0300
TZNAME:-03
DTSTART:20240101T000000
END:STANDARD
END:VTIMEZONE
BEGIN:VEVENT
DTSTART;TZID=America/Sao_Paulo:20240630T190000
DTEND;TZID=America/Sao_Paulo:20240630T200000
DTSTAMP:20260421T191925
CREATED:20240607T202923Z
LAST-MODIFIED:20240614T152727Z
UID:2459-1719774000-1719777600@grupopandoradeteatro.com.br
SUMMARY:Relicário de Concreto
DESCRIPTION:Mostra de Repertório – Pandora 20 anos!\nRELICÁRIO DE CONCRETO\nInspirado nas memórias dos trabalhadores da Fábrica de Cimento Portland Perus e na Greve dos Queixadas.\n Duração:  70 minutos \nClassificação indicativa:  10 anos\n\nCURTA TEMPORADA | \n Datas: 29/06 (sábado)\, 30/06 (domingo)\, 01/07 (segunda) e 02/07 (terça-feira)\nHorário: 19h00 \n\nENTRADA GRATUITA \n\n Local: Ocupação Artística Canhoba  Endereço: Rua Canhoba\, 299 – Perus\, São Paulo – SP \n\nGaranta seu ingresso AQUI!\n\n\nAs ações fazem parte do projeto “Pandora 20 Anos – Firmeza Permanente” realizado com apoio da 41° Edição do Programa Municipal de Fomento ao Teatro para a cidade de São Paulo – Secretaria Municipal de Cultura\, com o qual o grupo celebra 20 anos de trajetória.
URL:https://grupopandoradeteatro.com.br/evento/relicario-de-concreto-30-06/
LOCATION:Ocupação Artística Canhoba\, Rua Canhoba\, 299\, São Paulo/SP\, SP\, 05201-200\, Brasil
ATTACH;FMTTYPE=image/jpeg:https://grupopandoradeteatro.com.br/wp-content/uploads/2024/02/by-Luh-Silva.jpg
ORGANIZER;CN="Grupo%20Pandora%20de%20Teatro":MAILTO:contato@grupopandoradeteatro.com.br
END:VEVENT
BEGIN:VEVENT
DTSTART;TZID=America/Sao_Paulo:20240701T190000
DTEND;TZID=America/Sao_Paulo:20240701T200000
DTSTAMP:20260421T191925
CREATED:20240607T203140Z
LAST-MODIFIED:20240614T145407Z
UID:2462-1719860400-1719864000@grupopandoradeteatro.com.br
SUMMARY:Relicário de Concreto
DESCRIPTION:Mostra de Repertório – Pandora 20 anos!\nRELICÁRIO DE CONCRETO\nInspirado nas memórias dos trabalhadores da Fábrica de Cimento Portland Perus e na Greve dos Queixadas.\n Duração:  70 minutos \nClassificação indicativa:  10 anos\n\nCURTA TEMPORADA | \n Datas: 29/06 (sábado)\, 30/06 (domingo)\, 01/07 (segunda) e 02/07 (terça-feira)\nHorário: 19h00 \n\nENTRADA GRATUITA \n\n Local: Ocupação Artística Canhoba  Endereço: Rua Canhoba\, 299 – Perus\, São Paulo – SP \n\nGaranta seu ingresso AQUI!\n\n\nAs ações fazem parte do projeto “Pandora 20 Anos – Firmeza Permanente” realizado com apoio da 41° Edição do Programa Municipal de Fomento ao Teatro para a cidade de São Paulo – Secretaria Municipal de Cultura\, com o qual o grupo celebra 20 anos de trajetória.
URL:https://grupopandoradeteatro.com.br/evento/relicario-de-concreto-01-07/
LOCATION:Ocupação Artística Canhoba\, Rua Canhoba\, 299\, São Paulo/SP\, SP\, 05201-200\, Brasil
ATTACH;FMTTYPE=image/jpeg:https://grupopandoradeteatro.com.br/wp-content/uploads/2024/06/Imagem4.jpg
ORGANIZER;CN="Grupo%20Pandora%20de%20Teatro":MAILTO:contato@grupopandoradeteatro.com.br
END:VEVENT
BEGIN:VEVENT
DTSTART;TZID=America/Sao_Paulo:20240706T203000
DTEND;TZID=America/Sao_Paulo:20240706T221000
DTSTAMP:20260421T191925
CREATED:20240607T205241Z
LAST-MODIFIED:20240607T205241Z
UID:2475-1720297800-1720303800@grupopandoradeteatro.com.br
SUMMARY:COMUM
DESCRIPTION:Mostra de Repertório – Pandora 20 anos!\nCOMUM\nInspirado na descoberta da vala clandestina do Cemitério Dom Bosco no bairro de Perus em 1990. Uma jovem em busca de informações sobre o desaparecimento de seus pais\, dois coveiros envolvidos com a criação da vala e uma estudante que se aproxima do ativismo político. 1970/1990 épocas distintas se entrelaçam e evidenciam causas e consequências.\n Duração:  100 minutos\nClassificação indicativa:  12 anos\n\n CURTA TEMPORADA  \nDatas: 05\, 06 e 07 de julho de 2024 / Horários: sexta-feira e sábado às 20h30\, domingo às 19h  \n Garanta seu ingresso AQUI!  \nENTRADA GRATUITA  \n Local: Teatro Cacilda Becker  Endereço: Rua Tito\, 295 – Lapa\, São Paulo – SP \n As ações fazem parte do projeto “Pandora 20 Anos – Firmeza Permanente” realizado com apoio da 41° Edição do Programa Municipal de Fomento ao Teatro para a cidade de São Paulo – Secretaria Municipal de Cultura\, com o qual o grupo celebra 20 anos de trajetória. \n 
URL:https://grupopandoradeteatro.com.br/evento/comum-cacilda-06-07/
LOCATION:Teatro Cacilda Becker\, R. Tito\, 295 - Lapa\, São Paulo\, SP\, 05051-000\, Brasil
ATTACH;FMTTYPE=image/jpeg:https://grupopandoradeteatro.com.br/wp-content/uploads/2024/06/Foto-COMUM-por-Mandy-Barbosa-2024-8-scaled.jpg
ORGANIZER;CN="Grupo%20Pandora%20de%20Teatro":MAILTO:contato@grupopandoradeteatro.com.br
END:VEVENT
BEGIN:VEVENT
DTSTART;TZID=America/Sao_Paulo:20240710T000000
DTEND;TZID=America/Sao_Paulo:20240720T235900
DTSTAMP:20260421T191925
CREATED:20240620T013051Z
LAST-MODIFIED:20240710T200203Z
UID:2541-1720569600-1721519940@grupopandoradeteatro.com.br
SUMMARY:Curso de Teatro Pandora 2024
DESCRIPTION:Inscrições abertas até 20 de julho | INSCREVA-SE  AQUI\nA 3ª edição do Curso de Teatro Pandora propõe uma vivência das práticas de criação\, estudo e experimentação cênica por meio das metodologias de trabalho do Grupo Pandora de Teatro\, que atua há 20 anos no bairro de Perus\, com realização de uma montagem como conclusão do curso.\nAs aulas serão realizadas a partir do dia 10 de agosto de 2024\, até fevereiro de 2025 (07 meses)\, com encontros semanais às terças-feiras e sábados das 14h às 18h\, na sede do grupo\, a Ocupação Artística Canhoba em Perus.\n\n\n Inscrições:  Até 20 de julho de 2024  \n Quantidade de vagas: 10 vagas | Atividade gratuita \nPúblico-alvo:  A partir de 16 anos. Integrantes de coletivos artísticos\, estudantes\, pesquisadores e interessados no fazer teatral com ou sem experiência. Os participantes receberão ajuda de custo durante toda a realização do curso. \nO resultado será divulgado no dia 03 de agosto de 2024 \n  \n Parte do projeto “Pandora 20 Anos – Firmeza Permanente” contemplado na 41° Edição do Programa Municipal de Fomento ao Teatro para a cidade de São Paulo – Secretaria Municipal de Cultura\, com o qual o grupo comemora 20 anos de pesquisa contínua no bairro de Perus – SP
URL:https://grupopandoradeteatro.com.br/evento/cursodeteatropandora/
LOCATION:Ocupação Artística Canhoba\, Rua Canhoba\, 299\, São Paulo/SP\, SP\, 05201-200\, Brasil
ATTACH;FMTTYPE=image/png:https://grupopandoradeteatro.com.br/wp-content/uploads/2024/06/HOME-SITE.png
ORGANIZER;CN="Grupo%20Pandora%20de%20Teatro":MAILTO:contato@grupopandoradeteatro.com.br
END:VEVENT
END:VCALENDAR