BEGIN:VCALENDAR
VERSION:2.0
PRODID:-//Grupo Pandora de Teatro - ECPv5.5.0.1//NONSGML v1.0//EN
CALSCALE:GREGORIAN
METHOD:PUBLISH
X-WR-CALNAME:Grupo Pandora de Teatro
X-ORIGINAL-URL:https://grupopandoradeteatro.com.br
X-WR-CALDESC:Eventos para Grupo Pandora de Teatro
BEGIN:VTIMEZONE
TZID:America/Sao_Paulo
BEGIN:STANDARD
TZOFFSETFROM:-0300
TZOFFSETTO:-0300
TZNAME:-03
DTSTART:20220101T000000
END:STANDARD
END:VTIMEZONE
BEGIN:VEVENT
DTSTART;TZID=America/Sao_Paulo:20221008T150000
DTEND;TZID=America/Sao_Paulo:20221008T160000
DTSTAMP:20260423T064544
CREATED:20221007T235300Z
LAST-MODIFIED:20221008T000019Z
UID:2074-1665241200-1665244800@grupopandoradeteatro.com.br
SUMMARY:Nina e a cidade que perdeu o vento
DESCRIPTION:Sinopse:\nNina\, uma garota que trabalha com entregas durante a pandemia no Brasil\, parte em sua jornada fantástica para levar uma importante encomenda até um lugar muito distante\, a cidade que perdeu o vento.\n\n Duração:  60 minutos \n\nClassificação indicativa:  Livre  Apresentações nos dias:  08 e 09 de outubro de 2022 (sábado e domingo) – Horário: 15h00  \n  Entrada gratuita  \n Casa do Hip Hop Perus  Endereço: Rua Júlio Maciel\, 512 – Perus/SP (Próximo a estação Perus da CPTM) \n\n\nEspetáculo realizado com apoio da 36° Edição do Programa Municipal de Fomento ao Teatro para a cidade de São Paulo – Secretaria Municipal de Cultura.
URL:https://grupopandoradeteatro.com.br/evento/08-10-22/
LOCATION:Casa do Hip Hop Perus\, R. Júlio Maciel\, 512 - Perus\, São Paulo\, São Paulo\, 05208-090\, Brasil
ATTACH;FMTTYPE=image/jpeg:https://grupopandoradeteatro.com.br/wp-content/uploads/2022/07/IMG_4818-scaled.jpg
ORGANIZER;CN="Grupo%20Pandora%20de%20Teatro":MAILTO:contato@grupopandoradeteatro.com.br
END:VEVENT
BEGIN:VEVENT
DTSTART;TZID=America/Sao_Paulo:20221009T150000
DTEND;TZID=America/Sao_Paulo:20221009T160000
DTSTAMP:20260423T064544
CREATED:20221008T000328Z
LAST-MODIFIED:20221008T140602Z
UID:2083-1665327600-1665331200@grupopandoradeteatro.com.br
SUMMARY:Nina e a cidade que perdeu o vento
DESCRIPTION:Sinopse:\nNina\, uma garota que trabalha com entregas durante a pandemia no Brasil\, parte em sua jornada fantástica para levar uma importante encomenda até um lugar muito distante\, a cidade que perdeu o vento.\n\n Duração:  60 minutos \n\nClassificação indicativa:  Livre  Apresentações nos dias:  08 e 09 de outubro de 2022 (sábado e domingo) – Horário: 15h00  \n  Entrada gratuita  \n Casa do Hip Hop Perus  Endereço: Rua Júlio Maciel\, 512 – Perus/SP (Próximo a estação Perus da CPTM) \n\n\nEspetáculo realizado com apoio da 36° Edição do Programa Municipal de Fomento ao Teatro para a cidade de São Paulo – Secretaria Municipal de Cultura.
URL:https://grupopandoradeteatro.com.br/evento/nina-e-a-cidade-que-perdeu-o-vento-09-10-22/
LOCATION:Casa do Hip Hop Perus\, R. Júlio Maciel\, 512 - Perus\, São Paulo\, São Paulo\, 05208-090\, Brasil
ATTACH;FMTTYPE=image/jpeg:https://grupopandoradeteatro.com.br/wp-content/uploads/2022/07/IMG_4789-scaled.jpg
ORGANIZER;CN="Grupo%20Pandora%20de%20Teatro":MAILTO:contato@grupopandoradeteatro.com.br
END:VEVENT
BEGIN:VEVENT
DTSTART;TZID=America/Sao_Paulo:20221015T160000
DTEND;TZID=America/Sao_Paulo:20221015T170000
DTSTAMP:20260423T064544
CREATED:20221014T165033Z
LAST-MODIFIED:20221014T170449Z
UID:2088-1665849600-1665853200@grupopandoradeteatro.com.br
SUMMARY:Nina e a cidade que perdeu o vento
DESCRIPTION:Sinopse:\nNina\, uma garota que trabalha com entregas durante a pandemia no Brasil\, parte em sua jornada fantástica para levar uma importante encomenda até um lugar muito distante\, a cidade que perdeu o vento.\n\n Duração:  60 minutos \n\nClassificação indicativa:  Livre  Apresentação no dia:  15 de outubro de 2022 (sábado) – Horário: 16h00  \n Parte da programação do Festival Oxandolá [In] Festa  | ENTRADA GRATUITA  \n PRAÇA KLÉIA ALVES  Endereço: Rua Dona Amália Sestini – Franco da Rocha/SP (Próximo a estação Franco da Rocha da CPTM)
URL:https://grupopandoradeteatro.com.br/evento/nina-15-10-22/
LOCATION:Praça das Artes Kléia Alves\, R. Dona Amália Sestini\, Franco da Rocha\, São Paulo\, 07802-260\, Brasil
ATTACH;FMTTYPE=image/jpeg:https://grupopandoradeteatro.com.br/wp-content/uploads/2022/07/IMG_4789-scaled.jpg
ORGANIZER;CN="Grupo%20Pandora%20de%20Teatro":MAILTO:contato@grupopandoradeteatro.com.br
END:VEVENT
END:VCALENDAR