BEGIN:VCALENDAR
VERSION:2.0
PRODID:-//Grupo Pandora de Teatro - ECPv5.5.0.1//NONSGML v1.0//EN
CALSCALE:GREGORIAN
METHOD:PUBLISH
X-WR-CALNAME:Grupo Pandora de Teatro
X-ORIGINAL-URL:https://grupopandoradeteatro.com.br
X-WR-CALDESC:Eventos para Grupo Pandora de Teatro
BEGIN:VTIMEZONE
TZID:America/Sao_Paulo
BEGIN:STANDARD
TZOFFSETFROM:-0300
TZOFFSETTO:-0300
TZNAME:-03
DTSTART:20220101T000000
END:STANDARD
END:VTIMEZONE
BEGIN:VEVENT
DTSTART;TZID=America/Sao_Paulo:20220702T150000
DTEND;TZID=America/Sao_Paulo:20220702T160000
DTSTAMP:20260423T115100
CREATED:20210422T141631Z
LAST-MODIFIED:20220628T170902Z
UID:1326-1656774000-1656777600@grupopandoradeteatro.com.br
SUMMARY:Nina e a cidade que perdeu o vento
DESCRIPTION:Sinopse:\nNina\, uma garota que trabalha com entregas durante a pandemia no Brasil\, parte em sua jornada fantástica para levar uma importante encomenda até um lugar muito distante\, a cidade que perdeu o vento.\n\n Duração:  60 minutos \n\nClassificação indicativa:  Livre  Apresentações nos dias:  02\, 03\, 09 e 10 de julho de 2022 (sábados e domingos) – Horário: 15h00  \n  Entrada gratuita  \n Parque Anhanguera  Endereço: Av. Fortunata Tadiello Natucci\, 1000 (alt. km 25 da Rod. Anhanguera – extremo noroeste\, no bairro de Perus – São Paulo – SP  \n\n\n\nEspetáculo realizado com apoio da 36° Edição do Programa Municipal de Fomento ao Teatro para a cidade de São Paulo – Secretaria Municipal de Cultura.
URL:https://grupopandoradeteatro.com.br/evento/nina-02-julho-2022/
LOCATION:Parque Anhanguera\, Av. Fortunata Tadiello Natucci\, 1000 (alt. km 25 da Rod. Anhanguera - extremo noroeste\, no bairro de Perus - São Paulo - SP\, São Paulo\, SP\, 05181-070\, Brasil
ATTACH;FMTTYPE=image/jpeg:https://grupopandoradeteatro.com.br/wp-content/uploads/2021/04/Nina-e-a-cidade-que-perdeu-o-vento-por-Luh-Silva-Maio-2022-1-scaled-e1656435486363.jpg
ORGANIZER;CN="Grupo%20Pandora%20de%20Teatro":MAILTO:contato@grupopandoradeteatro.com.br
END:VEVENT
BEGIN:VEVENT
DTSTART;TZID=America/Sao_Paulo:20220703T150000
DTEND;TZID=America/Sao_Paulo:20220703T160000
DTSTAMP:20260423T115100
CREATED:20220628T171233Z
LAST-MODIFIED:20220628T171327Z
UID:1751-1656860400-1656864000@grupopandoradeteatro.com.br
SUMMARY:Nina e a cidade que perdeu o vento
DESCRIPTION:Sinopse:\nNina\, uma garota que trabalha com entregas durante a pandemia no Brasil\, parte em sua jornada fantástica para levar uma importante encomenda até um lugar muito distante\, a cidade que perdeu o vento.\n\n Duração:  60 minutos \n\nClassificação indicativa:  Livre  Apresentações nos dias:  02\, 03\, 09 e 10 de julho de 2022 (sábados e domingos) – Horário: 15h00  \n  Entrada gratuita  \n Parque Anhanguera  Endereço: Av. Fortunata Tadiello Natucci\, 1000 (alt. km 25 da Rod. Anhanguera – extremo noroeste\, no bairro de Perus – São Paulo – SP  \n\n\n\nEspetáculo realizado com apoio da 36° Edição do Programa Municipal de Fomento ao Teatro para a cidade de São Paulo – Secretaria Municipal de Cultura.
URL:https://grupopandoradeteatro.com.br/evento/nina-03-julho-2022/
LOCATION:Parque Anhanguera\, Av. Fortunata Tadiello Natucci\, 1000 (alt. km 25 da Rod. Anhanguera - extremo noroeste\, no bairro de Perus - São Paulo - SP\, São Paulo\, SP\, 05181-070\, Brasil
ATTACH;FMTTYPE=image/jpeg:https://grupopandoradeteatro.com.br/wp-content/uploads/2021/04/Nina-e-a-cidade-que-perdeu-o-vento-por-Luh-Silva-Maio-2022-1-scaled-e1656435486363.jpg
ORGANIZER;CN="Grupo%20Pandora%20de%20Teatro":MAILTO:contato@grupopandoradeteatro.com.br
END:VEVENT
BEGIN:VEVENT
DTSTART;TZID=America/Sao_Paulo:20220709T150000
DTEND;TZID=America/Sao_Paulo:20220709T160000
DTSTAMP:20260423T115100
CREATED:20220628T171652Z
LAST-MODIFIED:20220628T171652Z
UID:1757-1657378800-1657382400@grupopandoradeteatro.com.br
SUMMARY:Nina e a cidade que perdeu o vento
DESCRIPTION:Sinopse:\nNina\, uma garota que trabalha com entregas durante a pandemia no Brasil\, parte em sua jornada fantástica para levar uma importante encomenda até um lugar muito distante\, a cidade que perdeu o vento.\n\n Duração:  60 minutos \n\nClassificação indicativa:  Livre  Apresentações nos dias:  02\, 03\, 09 e 10 de julho de 2022 (sábados e domingos) – Horário: 15h00  \n  Entrada gratuita  \n Parque Anhanguera  Endereço: Av. Fortunata Tadiello Natucci\, 1000 (alt. km 25 da Rod. Anhanguera – extremo noroeste\, no bairro de Perus – São Paulo – SP  \n\n\n\nEspetáculo realizado com apoio da 36° Edição do Programa Municipal de Fomento ao Teatro para a cidade de São Paulo – Secretaria Municipal de Cultura.
URL:https://grupopandoradeteatro.com.br/evento/nina-09-julho-2022/
LOCATION:Parque Anhanguera\, Av. Fortunata Tadiello Natucci\, 1000 (alt. km 25 da Rod. Anhanguera - extremo noroeste\, no bairro de Perus - São Paulo - SP\, São Paulo\, SP\, 05181-070\, Brasil
ATTACH;FMTTYPE=image/jpeg:https://grupopandoradeteatro.com.br/wp-content/uploads/2021/04/Nina-e-a-cidade-que-perdeu-o-vento-por-Luh-Silva-Maio-2022-1-scaled-e1656435486363.jpg
ORGANIZER;CN="Grupo%20Pandora%20de%20Teatro":MAILTO:contato@grupopandoradeteatro.com.br
END:VEVENT
BEGIN:VEVENT
DTSTART;TZID=America/Sao_Paulo:20220710T150000
DTEND;TZID=America/Sao_Paulo:20220710T160000
DTSTAMP:20260423T115100
CREATED:20220628T171936Z
LAST-MODIFIED:20220628T171936Z
UID:1760-1657465200-1657468800@grupopandoradeteatro.com.br
SUMMARY:Nina e a cidade que perdeu o vento
DESCRIPTION:Sinopse:\nNina\, uma garota que trabalha com entregas durante a pandemia no Brasil\, parte em sua jornada fantástica para levar uma importante encomenda até um lugar muito distante\, a cidade que perdeu o vento.\n\n Duração:  60 minutos \n\nClassificação indicativa:  Livre  Apresentações nos dias:  02\, 03\, 09 e 10 de julho de 2022 (sábados e domingos) – Horário: 15h00  \n  Entrada gratuita  \n Parque Anhanguera  Endereço: Av. Fortunata Tadiello Natucci\, 1000 (alt. km 25 da Rod. Anhanguera – extremo noroeste\, no bairro de Perus – São Paulo – SP  \n\n\n\nEspetáculo realizado com apoio da 36° Edição do Programa Municipal de Fomento ao Teatro para a cidade de São Paulo – Secretaria Municipal de Cultura.
URL:https://grupopandoradeteatro.com.br/evento/nina-10-julho-2022/
LOCATION:Parque Anhanguera\, Av. Fortunata Tadiello Natucci\, 1000 (alt. km 25 da Rod. Anhanguera - extremo noroeste\, no bairro de Perus - São Paulo - SP\, São Paulo\, SP\, 05181-070\, Brasil
ATTACH;FMTTYPE=image/jpeg:https://grupopandoradeteatro.com.br/wp-content/uploads/2021/04/Nina-e-a-cidade-que-perdeu-o-vento-por-Luh-Silva-Maio-2022-1-scaled-e1656435486363.jpg
ORGANIZER;CN="Grupo%20Pandora%20de%20Teatro":MAILTO:contato@grupopandoradeteatro.com.br
END:VEVENT
BEGIN:VEVENT
DTSTART;VALUE=DATE:20220715
DTEND;VALUE=DATE:20220718
DTSTAMP:20260423T115100
CREATED:20220204T171210Z
LAST-MODIFIED:20220629T070338Z
UID:1696-1657843200-1658102399@grupopandoradeteatro.com.br
SUMMARY:8º Ato Artístico Coletivo Perus
DESCRIPTION:Edição realizada em comemoração ao aniversário de 18 anos de trajetória do Grupo Pandora de Teatro \n O festival realizado nos dias 15\, 16 E 17 DE JULHO\, promove uma programação plural e diversa\, totalmente dedicada ao teatro para a infância e juventude. \nATIVIDADES PRESENCIAIS E GRATUITAS\n Venha de Máscara! \n \nConfira abaixo a PROGRAMAÇÃO COMPLETA: \n15/07 (sexta) às 15h30 – Espetáculo “Esquadrão Bombelhaço” com Circo Teatro Palombar\nDuração: 50 minutos. \n16/07 (sábado) às 11h – Espetáculo “Pra lá de teerã” com Grupo Sobrevento\nDuração: 40 minutos. \n16/07 (sábado) às 15h – Espetáculo “Pequena Floresta de Maisha” com As Tapijás\n Duração: 60 minutos. \n17/07 (domingo) às 11h – Espetáculo “FIM?” com Grupo Esparrama\n Duração: 50 minutos. \n17/07 (domingo) às 15h – Espetáculo “Nina e a cidade que perdeu o vento” com Grupo Pandora de Teatro\n Duração: 60 minutos. \n17/07 (domingo) às 16h30 – Bate-papo “Teatro para Infância e Juventude” com Dib Carneiro e Jéssica Policastri \nQUANDO?\nDatas: 15\, 16 e 17 de julho de 2022 \nONDE?\nLocal: Ocupação Artística Canhoba – Cine Teatro Pandora\nEndereço: Rua Canhoba\, 299 – Vila Fanton – Perus – São Paulo/SP \n 
URL:https://grupopandoradeteatro.com.br/evento/8o-ato-artistico-coletivo-perus/
LOCATION:Ocupação Artística Canhoba\, Rua Canhoba\, 299\, São Paulo/SP\, SP\, 05201-200\, Brasil
ORGANIZER;CN="Grupo%20Pandora%20de%20Teatro":MAILTO:contato@grupopandoradeteatro.com.br
END:VEVENT
BEGIN:VEVENT
DTSTART;TZID=America/Sao_Paulo:20220729T190000
DTEND;TZID=America/Sao_Paulo:20220729T203000
DTSTAMP:20260423T115100
CREATED:20220726T024326Z
LAST-MODIFIED:20220726T184131Z
UID:1957-1659121200-1659126600@grupopandoradeteatro.com.br
SUMMARY:Jardim Vertical
DESCRIPTION:Sinopse:\nUma fábula sobre compensação e artificialidade\, apresenta as relações de uma família que vive isolada no quadragésimo sétimo andar de um edifício\, onde é preciso abrir espaço para seus sonhos no cotidiano do possível\n\n Duração:  80 minutos \n\nClassificação indicativa:  12 anos \n Apresentações nos dias:  29\, 30 e 31 de julho de 2022 / sexta\, sábado e domingo às 19h  \n Esperamos vocês!  Entrada gratuita  \n Ocupação Artística Canhoba  Endereço: Rua Canhoba\, 299 – Perus\, São Paulo – SP  \n\n\n\n“Este projeto foi premiado pela 2ª Edição de Premiação de Coletivos Culturais que realizam a Gestão Comunitária em Espaços Públicos Ociosos da Cidade de São Paulo – Secretaria Municipal de Cultura”
URL:https://grupopandoradeteatro.com.br/evento/jardim-vertical-29-07-22/
LOCATION:Ocupação Artística Canhoba\, Rua Canhoba\, 299\, São Paulo/SP\, SP\, 05201-200\, Brasil
ATTACH;FMTTYPE=image/png:https://grupopandoradeteatro.com.br/wp-content/uploads/2021/05/Capa_miniatura_para_videos_1280x720px.png
ORGANIZER;CN="Grupo%20Pandora%20de%20Teatro":MAILTO:contato@grupopandoradeteatro.com.br
END:VEVENT
BEGIN:VEVENT
DTSTART;TZID=America/Sao_Paulo:20220730T190000
DTEND;TZID=America/Sao_Paulo:20220730T203000
DTSTAMP:20260423T115100
CREATED:20220726T182921Z
LAST-MODIFIED:20220726T184229Z
UID:1965-1659207600-1659213000@grupopandoradeteatro.com.br
SUMMARY:Jardim Vertical
DESCRIPTION:Sinopse:\nUma fábula sobre compensação e artificialidade\, apresenta as relações de uma família que vive isolada no quadragésimo sétimo andar de um edifício\, onde é preciso abrir espaço para seus sonhos no cotidiano do possível\n\n Duração:  80 minutos \n\nClassificação indicativa:  12 anos \n Apresentações nos dias:  29\, 30 e 31 de julho de 2022 / sexta\, sábado e domingo às 19h  \n Esperamos vocês!  Entrada gratuita  \n Ocupação Artística Canhoba  Endereço: Rua Canhoba\, 299 – Perus\, São Paulo – SP  \n\n\n\n“Este projeto foi premiado pela 2ª Edição de Premiação de Coletivos Culturais que realizam a Gestão Comunitária em Espaços Públicos Ociosos da Cidade de São Paulo – Secretaria Municipal de Cultura”
URL:https://grupopandoradeteatro.com.br/evento/jardim-vertical-30-07-22/
LOCATION:Ocupação Artística Canhoba\, Rua Canhoba\, 299\, São Paulo/SP\, SP\, 05201-200\, Brasil
ATTACH;FMTTYPE=image/png:https://grupopandoradeteatro.com.br/wp-content/uploads/2022/07/Capa_miniatura_para_videos_1280x720px.png
ORGANIZER;CN="Grupo%20Pandora%20de%20Teatro":MAILTO:contato@grupopandoradeteatro.com.br
END:VEVENT
BEGIN:VEVENT
DTSTART;TZID=America/Sao_Paulo:20220731T190000
DTEND;TZID=America/Sao_Paulo:20220731T203000
DTSTAMP:20260423T115100
CREATED:20220726T183118Z
LAST-MODIFIED:20220726T184304Z
UID:1969-1659294000-1659299400@grupopandoradeteatro.com.br
SUMMARY:Jardim Vertical
DESCRIPTION:Sinopse:\nUma fábula sobre compensação e artificialidade\, apresenta as relações de uma família que vive isolada no quadragésimo sétimo andar de um edifício\, onde é preciso abrir espaço para seus sonhos no cotidiano do possível\n\n Duração:  80 minutos \n\nClassificação indicativa:  12 anos \n Apresentações nos dias:  29\, 30 e 31 de julho de 2022 / sexta\, sábado e domingo às 19h  \n Esperamos vocês!  Entrada gratuita  \n Ocupação Artística Canhoba  Endereço: Rua Canhoba\, 299 – Perus\, São Paulo – SP  \n\n\n\n“Este projeto foi premiado pela 2ª Edição de Premiação de Coletivos Culturais que realizam a Gestão Comunitária em Espaços Públicos Ociosos da Cidade de São Paulo – Secretaria Municipal de Cultura”
URL:https://grupopandoradeteatro.com.br/evento/jardim-vertical-31-07-22/
LOCATION:Ocupação Artística Canhoba\, Rua Canhoba\, 299\, São Paulo/SP\, SP\, 05201-200\, Brasil
ATTACH;FMTTYPE=image/png:https://grupopandoradeteatro.com.br/wp-content/uploads/2022/07/Capa_miniatura_para_videos_1280x720px.png
ORGANIZER;CN="Grupo%20Pandora%20de%20Teatro":MAILTO:contato@grupopandoradeteatro.com.br
END:VEVENT
BEGIN:VEVENT
DTSTART;TZID=America/Sao_Paulo:20220804T193000
DTEND;TZID=America/Sao_Paulo:20220804T210000
DTSTAMP:20260423T115100
CREATED:20220801T184159Z
LAST-MODIFIED:20220801T231242Z
UID:2027-1659641400-1659646800@grupopandoradeteatro.com.br
SUMMARY:Jardim Vertical
DESCRIPTION:Sinopse:\nJardim Vertical reflete sobre as relações familiares na contemporaneidade e a falsa ideia de segurança. De forma cômica e satírica\, o espetáculo transita pelo dia-a-dia de uma família que opta por se isolar do mundo exterior em um seguro apartamento no quadragésimo sétimo andar de um edifício.\n\n Duração:  80 minutos \n\nClassificação indicativa:  12 anos \n Uma única apresentação |  Data/Horário: 04 de agosto de 2022 (quinta-feira) às 19h  \n Venham acompanhar está apresentação e a programação “QUINTAS CULTURAIS”  | ENTRADA GRATUITA  \n Local: Teatro Municipal de Caieiras Maestro Sergio Valbusa  Endereço: Av. Marcelino Bressiani\, 178 – Vila Gertrudes\, Caieiras – SP\, 07700-000  \n\n\n\nEsta apresentação é realizada com apoio do “Edital de chamada pública nº 002/2022 – Seleção de propostas para realização de apresentações artísticas e culturais na temporada 2022 do projeto QUINTAS CULTURAIS – Prefeitura do Município de Caieiras\, Secretaria Municipal de Ação Cultural e Turismo e Fundo Municipal de Cultura.”
URL:https://grupopandoradeteatro.com.br/evento/jardim-vertical-04-08-2022/
LOCATION:Teatro Municipal de Caieiras Maestro Sergio Valbusa\, Av. Marcelino Bressiani\, 178 - Vila Gertrudes\, Caieras\, SP\, 07700-000\, Brasil
ATTACH;FMTTYPE=image/png:https://grupopandoradeteatro.com.br/wp-content/uploads/2021/04/abertura_video_op1_1920X1080px.png
ORGANIZER;CN="Grupo%20Pandora%20de%20Teatro":MAILTO:contato@grupopandoradeteatro.com.br
END:VEVENT
END:VCALENDAR