BEGIN:VCALENDAR
VERSION:2.0
PRODID:-//Grupo Pandora de Teatro - ECPv5.5.0.1//NONSGML v1.0//EN
CALSCALE:GREGORIAN
METHOD:PUBLISH
X-WR-CALNAME:Grupo Pandora de Teatro
X-ORIGINAL-URL:https://grupopandoradeteatro.com.br
X-WR-CALDESC:Eventos para Grupo Pandora de Teatro
BEGIN:VTIMEZONE
TZID:America/Sao_Paulo
BEGIN:STANDARD
TZOFFSETFROM:-0300
TZOFFSETTO:-0300
TZNAME:-03
DTSTART:20210101T000000
END:STANDARD
END:VTIMEZONE
BEGIN:VEVENT
DTSTART;TZID=America/Sao_Paulo:20210422T170000
DTEND;TZID=America/Sao_Paulo:20210422T210000
DTSTAMP:20260424T121752
CREATED:20210316T190043Z
LAST-MODIFIED:20210423T014431Z
UID:542-1619110800-1619125200@grupopandoradeteatro.com.br
SUMMARY:JARDIM VERTICAL
DESCRIPTION:SINOPSE:\nJardim Vertical\, uma fábula sobre compensação e artificialidade\, apresenta as relações de uma família que vive isolada no quadragésimo sétimo andar de um edifício\, onde é preciso abrir espaço para seus sonhos no cotidiano do possível.\n\n\n  \nDuração: 80 minutos. \nClassificação indicativa: 12  anos \nIngressos gratuitos. \nPlataforma: Zoom \nRetire seu ingresso na: PÁGINA DO EVENTO \n  \n  \nSAIBA MAIS SOBRE A PEÇA
URL:https://grupopandoradeteatro.com.br/evento/jardim-vertical/
LOCATION:Zoom\, Sua Casa\, São Paulo/SP\, SP\, 05201-200\, Brasil
ATTACH;FMTTYPE=image/png:https://grupopandoradeteatro.com.br/wp-content/uploads/2021/03/Post_para_Instagram_1080X1080px.png
ORGANIZER;CN="Grupo%20Pandora%20de%20Teatro":MAILTO:contato@grupopandoradeteatro.com.br
END:VEVENT
BEGIN:VEVENT
DTSTART;TZID=America/Sao_Paulo:20210423T210000
DTEND;TZID=America/Sao_Paulo:20210423T210000
DTSTAMP:20260424T121752
CREATED:20210422T141010Z
LAST-MODIFIED:20210423T014513Z
UID:1305-1619211600-1619211600@grupopandoradeteatro.com.br
SUMMARY:JARDIM VERTICAL
DESCRIPTION:SINOPSE:\nJardim Vertical\, uma fábula sobre compensação e artificialidade\, apresenta as relações de uma família que vive isolada no quadragésimo sétimo andar de um edifício\, onde é preciso abrir espaço para seus sonhos no cotidiano do possível.\n\nDuração: 80 minutos.Classificação indicativa: 12  anosIngressos gratuitos. \nPlataforma: Zoom \nRetire seu ingresso na: PÁGINA DO EVENTO \n  \nSAIBA MAIS SOBRE A PEÇA
URL:https://grupopandoradeteatro.com.br/evento/jardim-vertical-2/
LOCATION:Zoom\, Sua Casa\, São Paulo/SP\, SP\, 05201-200\, Brasil
ATTACH;FMTTYPE=image/png:https://grupopandoradeteatro.com.br/wp-content/uploads/2021/03/Post_para_Instagram_1080X1080px.png
END:VEVENT
BEGIN:VEVENT
DTSTART;TZID=America/Sao_Paulo:20210424T170000
DTEND;TZID=America/Sao_Paulo:20210424T210000
DTSTAMP:20260424T121752
CREATED:20210422T141347Z
LAST-MODIFIED:20210423T014613Z
UID:1323-1619283600-1619298000@grupopandoradeteatro.com.br
SUMMARY:JARDIM VERTICAL
DESCRIPTION:SINOPSE:\nJardim Vertical\, uma fábula sobre compensação e artificialidade\, apresenta as relações de uma família que vive isolada no quadragésimo sétimo andar de um edifício\, onde é preciso abrir espaço para seus sonhos no cotidiano do possível.\n\nDuração: 80 minutos.Classificação indicativa: 12  anosIngressos gratuitos. \nPlataforma: Zoom \nRetire seu ingresso na: PÁGINA DO EVENTO \n  \n  \nSAIBA MAIS SOBRE A PEÇA
URL:https://grupopandoradeteatro.com.br/evento/jardim-vertical-3/
LOCATION:Zoom\, Sua Casa\, São Paulo/SP\, SP\, 05201-200\, Brasil
ATTACH;FMTTYPE=image/png:https://grupopandoradeteatro.com.br/wp-content/uploads/2021/03/Post_para_Instagram_1080X1080px.png
ORGANIZER;CN="Grupo%20Pandora%20de%20Teatro":MAILTO:contato@grupopandoradeteatro.com.br
END:VEVENT
BEGIN:VEVENT
DTSTART;TZID=America/Sao_Paulo:20210425T190000
DTEND;TZID=America/Sao_Paulo:20210425T190000
DTSTAMP:20260424T121752
CREATED:20210422T141502Z
LAST-MODIFIED:20210423T014652Z
UID:1324-1619377200-1619377200@grupopandoradeteatro.com.br
SUMMARY:JARDIM VERTICAL
DESCRIPTION:SINOPSE:\nJardim Vertical\, uma fábula sobre compensação e artificialidade\, apresenta as relações de uma família que vive isolada no quadragésimo sétimo andar de um edifício\, onde é preciso abrir espaço para seus sonhos no cotidiano do possível.\n\nDuração: 80 minutos.Classificação indicativa: 12  anosIngressos gratuitos. \nPlataforma: Zoom \nRetire seu ingresso na: PÁGINA DO EVENTO \n  \n  \nSAIBA MAIS SOBRE A PEÇA
URL:https://grupopandoradeteatro.com.br/evento/jardim-vertical-4/
LOCATION:Zoom\, Sua Casa\, São Paulo/SP\, SP\, 05201-200\, Brasil
ATTACH;FMTTYPE=image/png:https://grupopandoradeteatro.com.br/wp-content/uploads/2021/03/Post_para_Instagram_1080X1080px.png
ORGANIZER;CN="Grupo%20Pandora%20de%20Teatro":MAILTO:contato@grupopandoradeteatro.com.br
END:VEVENT
BEGIN:VEVENT
DTSTART;TZID=America/Sao_Paulo:20210426T210000
DTEND;TZID=America/Sao_Paulo:20210426T210000
DTSTAMP:20260424T121752
CREATED:20210422T141542Z
LAST-MODIFIED:20210422T175242Z
UID:1325-1619470800-1619470800@grupopandoradeteatro.com.br
SUMMARY:JARDIM VERTICAL
DESCRIPTION:SINOPSE:\nJardim Vertical\, uma fábula sobre compensação e artificialidade\, apresenta as relações de uma família que vive isolada no quadragésimo sétimo andar de um edifício\, onde é preciso abrir espaço para seus sonhos no cotidiano do possível.\n\n\nDuração: 80 minutos.Classificação indicativa: 12  anos \nIngressos gratuitos. \nPlataforma: Zoom \nRetire seu ingresso na: PÁGINA DO EVENTO \n  \n  \nSAIBA MAIS SOBRE A PEÇA
URL:https://grupopandoradeteatro.com.br/evento/jardim-vertical-5/
LOCATION:Zoom\, Sua Casa\, São Paulo/SP\, SP\, 05201-200\, Brasil
ATTACH;FMTTYPE=image/png:https://grupopandoradeteatro.com.br/wp-content/uploads/2021/03/capa_para_evento_Facebook_1920X1080px_OP2.png
ORGANIZER;CN="Grupo%20Pandora%20de%20Teatro":MAILTO:contato@grupopandoradeteatro.com.br
END:VEVENT
END:VCALENDAR