BEGIN:VCALENDAR
VERSION:2.0
PRODID:-//Grupo Pandora de Teatro - ECPv5.5.0.1//NONSGML v1.0//EN
CALSCALE:GREGORIAN
METHOD:PUBLISH
X-WR-CALNAME:Grupo Pandora de Teatro
X-ORIGINAL-URL:https://grupopandoradeteatro.com.br
X-WR-CALDESC:Eventos para Grupo Pandora de Teatro
BEGIN:VTIMEZONE
TZID:America/Sao_Paulo
BEGIN:STANDARD
TZOFFSETFROM:-0300
TZOFFSETTO:-0300
TZNAME:-03
DTSTART:20230101T000000
END:STANDARD
END:VTIMEZONE
BEGIN:VEVENT
DTSTART;TZID=America/Sao_Paulo:20230304T180000
DTEND;TZID=America/Sao_Paulo:20230304T193000
DTSTAMP:20260421T074642
CREATED:20230226T034148Z
LAST-MODIFIED:20230226T034822Z
UID:2210-1677952800-1677958200@grupopandoradeteatro.com.br
SUMMARY:Jardim Vertical
DESCRIPTION:Sinopse:\nJardim Vertical reflete sobre as relações familiares na contemporaneidade e a falsa ideia de segurança. De forma cômica e satírica\, o espetáculo transita pelo dia-a-dia de uma família que opta por se isolar do mundo exterior em um seguro apartamento no quadragésimo sétimo andar de um edifício.\n\n Duração:  80 minutos \n\nClassificação indicativa:  12 anos \n Apenas duas apresentações |  Data/Horário: 03 e 04 de março de 2023 | Sexta-feira às 20h e Sábado às 18h  \n Esperamos vocês!  | ENTRADA GRATUITA  \n Local: Oficina Cultural Oswald Andrade  Endereço: Rua Três Rios\, 363 – Bom Retiro\, São Paulo – SP
URL:https://grupopandoradeteatro.com.br/evento/jardim-oswald-04-03/
LOCATION:Oficina Cultural Oswald Andrade\, Rua Três Rios\, 363 - Bom Retiro\, São Paulo - SP\, São Paulo\, SP\, 01123-001\, Brasil
ATTACH;FMTTYPE=image/png:https://grupopandoradeteatro.com.br/wp-content/uploads/2021/04/abertura_video_op1_1920X1080px.png
ORGANIZER;CN="Grupo%20Pandora%20de%20Teatro":MAILTO:contato@grupopandoradeteatro.com.br
END:VEVENT
END:VCALENDAR