BEGIN:VCALENDAR
VERSION:2.0
PRODID:-//Grupo Pandora de Teatro - ECPv5.5.0.1//NONSGML v1.0//EN
CALSCALE:GREGORIAN
METHOD:PUBLISH
X-WR-CALNAME:Grupo Pandora de Teatro
X-ORIGINAL-URL:https://grupopandoradeteatro.com.br
X-WR-CALDESC:Eventos para Grupo Pandora de Teatro
BEGIN:VTIMEZONE
TZID:America/Sao_Paulo
BEGIN:STANDARD
TZOFFSETFROM:-0300
TZOFFSETTO:-0300
TZNAME:-03
DTSTART:20240101T000000
END:STANDARD
END:VTIMEZONE
BEGIN:VEVENT
DTSTART;TZID=America/Sao_Paulo:20240219T170000
DTEND;TZID=America/Sao_Paulo:20240219T181000
DTSTAMP:20260420T183812
CREATED:20240204T194214Z
LAST-MODIFIED:20240204T194214Z
UID:2314-1708362000-1708366200@grupopandoradeteatro.com.br
SUMMARY:Jardim Vertical
DESCRIPTION:Mostra de Repertório – Pandora 20 anos!\nJARDIM VERTICAL reflete sobre as relações familiares na contemporaneidade e a falsa ideia de segurança. De forma cômica e satírica\, o espetáculo transita pelo dia-a-dia de uma família que opta por se isolar do mundo exterior em um seguro apartamento no quadragésimo sétimo andar de um edifício.\n Duração:  70 minutos \n\nClassificação indicativa:  12 anos \n CURTA TEMPORADA |  Datas: 17\, 18\, 19\, 24\, 25 e 26 de fevereiro de 2024 / Horários: sábados e domingos às 18h e segundas-feiras às 17h  \n Garanta seu ingresso AQUI!  \nENTRADA GRATUITA  \n Local: Teatro de Contêiner Mungunzá  Endereço: Rua dos Gusmões\, 43 – Santa Ifigênia\, São Paulo – SP \n As ações fazem parte do projeto “Pandora 20 Anos – Firmeza Permanente” realizado com apoio da 41° Edição do Programa Municipal de Fomento ao Teatro para a cidade de São Paulo – Secretaria Municipal de Cultura\, com o qual o grupo celebra 20 anos de trajetória.
URL:https://grupopandoradeteatro.com.br/evento/jardim-conteiner-19/
LOCATION:Teatro de Contêiner\, R. dos Gusmões\, 43 - Santa Ifigênia\, São Paulo\, SP\, 01212-000\, Brasil
ATTACH;FMTTYPE=image/png:https://grupopandoradeteatro.com.br/wp-content/uploads/2024/02/Arte-Jardim_Vertical.png
ORGANIZER;CN="Grupo%20Pandora%20de%20Teatro":MAILTO:contato@grupopandoradeteatro.com.br
END:VEVENT
END:VCALENDAR