BEGIN:VCALENDAR
VERSION:2.0
PRODID:-//Grupo Pandora de Teatro - ECPv5.5.0.1//NONSGML v1.0//EN
CALSCALE:GREGORIAN
METHOD:PUBLISH
X-WR-CALNAME:Grupo Pandora de Teatro
X-ORIGINAL-URL:https://grupopandoradeteatro.com.br
X-WR-CALDESC:Eventos para Grupo Pandora de Teatro
BEGIN:VTIMEZONE
TZID:America/Sao_Paulo
BEGIN:STANDARD
TZOFFSETFROM:-0300
TZOFFSETTO:-0300
TZNAME:-03
DTSTART:20230101T000000
END:STANDARD
END:VTIMEZONE
BEGIN:VEVENT
DTSTART;VALUE=DATE:20230101
DTEND;VALUE=DATE:20230108
DTSTAMP:20260421T135211
CREATED:20230101T182133Z
LAST-MODIFIED:20230104T155323Z
UID:2176-1672531200-1673135999@grupopandoradeteatro.com.br
SUMMARY:INSCRIÇÕES ABERTAS | Curso de Teatro Pandora
DESCRIPTION:Grupo Pandora de Teatro abre inscrições gratuitas para o “Curso de Teatro Pandora”\nO Curso de Teatro Pandora propõe uma vivência das práticas de criação\, estudo e experimentação cênica por meio das metodologias de trabalho do Grupo Pandora de Teatro. Coordenado por Lucas Vitorino (diretor e dramaturgo) e Wellington Candido (ator e pesquisador)\, o curso será composto de 20 encontros\, com 4 horas de duração cada\, no período de 5 meses.\nVisando introduzir noções básicas do fazer teatral\, o curso abordará técnicas vocais\, corporais\, jogos teatrais\, exercícios de interpretação\, estudo de dramaturgia\, apreciação de espetáculos (mensalmente) e será finalizado com apresentações públicas de uma peça ensaiada ao longo do curso. Os encontros serão ministrados pelos integrantes do Grupo Pandora de Teatro: Caroline Alves\, Lucas Vitorino\, Rodolfo Vetore\, Thalita Duarte e Wellington Candido.\n\n\n Inscrições:  Até 07 de janeiro de 2023  Quantidade de vagas: 20 vagas / Atividade gratuita  \n A ação faz parte do projeto “Firmeza Permanente – Hoje tem Teatro em Perus”  realizado com apoio do Edital ProAC n° 46/2022 – Cidadania cultural Produção e realização de projeto cultural ou manutenção de corpo artístico em favelas e periferias. \n Público-alvo:  Acima de 14 anos. Integrantes de coletivos artísticos\, estudantes\, pesquisadores e interessados no fazer teatral com ou sem experiência. (Os participantes receberão ajuda de custo durante toda a realização do curso) \n INSCREVA-SE  aqui
URL:https://grupopandoradeteatro.com.br/evento/inscricoes-abertas-curso-de-teatro-pandora/
LOCATION:Ocupação Artística Canhoba\, Rua Canhoba\, 299\, São Paulo/SP\, SP\, 05201-200\, Brasil
ORGANIZER;CN="Grupo%20Pandora%20de%20Teatro":MAILTO:contato@grupopandoradeteatro.com.br
END:VEVENT
END:VCALENDAR